BEGIN:VCALENDAR
VERSION:2.0
PRODID:SchoolNow
CALSCALE:GREGORIAN
BEGIN:VEVENT
UID:18f47034-b411-11f0-8ff7-0a58a9feac02
DTSTAMP:20251028T151637Z
SUMMARY:LBE Shades of Orange Art Program
URL;VALUE=URI:https://www.liverpool.k12.ny.us/schools/lbe/calendar/8756978/
 lbe-shades-of-orange-art-program
DTSTART:20251202T204500Z
DTEND:20251202T214500Z
END:VEVENT
END:VCALENDAR
