BEGIN:VCALENDAR
VERSION:2.0
PRODID:SchoolNow
CALSCALE:GREGORIAN
BEGIN:VEVENT
UID:3d05caea-b411-11f0-9aa4-0a58a9feac02
DTSTAMP:20251028T151737Z
SUMMARY:LBE Shades of Orange Art Program
URL;VALUE=URI:https://www.liverpool.k12.ny.us/schools/lbe/calendar/8756979/
 lbe-shades-of-orange-art-program
DTSTART:20251209T204500Z
DTEND:20251209T214500Z
END:VEVENT
END:VCALENDAR
