BEGIN:VCALENDAR
VERSION:2.0
PRODID:SchoolNow
CALSCALE:GREGORIAN
BEGIN:VEVENT
UID:0928f764-3d3a-11ef-b7d9-0a58a9feac02
DTSTAMP:20240708T145454Z
SUMMARY:Spring Recess - School Closed (4-14-25)
URL;VALUE=URI:https://www.liverpool.k12.ny.us/schools/le/calendar/6231721/s
 pring-recess-school-closed-4-14-25
DTSTART:20250414T145300Z
DTEND:20250414T155300Z
END:VEVENT
END:VCALENDAR
