BEGIN:VCALENDAR
VERSION:2.0
PRODID:SchoolNow
CALSCALE:GREGORIAN
BEGIN:VEVENT
UID:868aa596-faa8-11ef-adac-0a58a9feac02
DTSTAMP:20250306T163159Z
SUMMARY:LE PFO Shades of Orange
URL;VALUE=URI:https://www.liverpool.k12.ny.us/schools/le/calendar/7617663/l
 e-pfo-shades-of-orange
DTSTART:20250311T190000Z
DTEND:20250311T200000Z
END:VEVENT
END:VCALENDAR
