BEGIN:VCALENDAR
VERSION:2.0
PRODID:SchoolNow
CALSCALE:GREGORIAN
BEGIN:VEVENT
UID:aa9ca056-faa8-11ef-bdb4-0a58a9feac02
DTSTAMP:20250306T163259Z
SUMMARY:LE PFO Shades or Orange
URL;VALUE=URI:https://www.liverpool.k12.ny.us/schools/le/calendar/7617664/l
 e-pfo-shades-or-orange
DTSTART:20250318T190000Z
DTEND:20250318T200000Z
END:VEVENT
END:VCALENDAR
