BEGIN:VCALENDAR
VERSION:2.0
PRODID:SchoolNow
CALSCALE:GREGORIAN
BEGIN:VEVENT
UID:c2993cf0-faa8-11ef-a42b-0e8b882d5455
DTSTAMP:20250306T163413Z
SUMMARY:LE PFO Shades of Orange
URL;VALUE=URI:https://www.liverpool.k12.ny.us/schools/le/calendar/7617665/l
 e-pfo-shades-of-orange
DTSTART:20250325T190000Z
DTEND:20250325T200000Z
END:VEVENT
END:VCALENDAR
