BEGIN:VCALENDAR
VERSION:2.0
PRODID:SchoolNow
CALSCALE:GREGORIAN
BEGIN:VEVENT
UID:a8ad9ebe-faab-11ef-a4c5-0a58a9feac02
DTSTAMP:20250306T165424Z
SUMMARY:LE PFO Basketball
URL;VALUE=URI:https://www.liverpool.k12.ny.us/schools/le/calendar/7617668/l
 e-pfo-basketball
DTSTART:20250319T190000Z
DTEND:20250319T200000Z
END:VEVENT
END:VCALENDAR
