BEGIN:VCALENDAR
VERSION:2.0
PRODID:SchoolNow
CALSCALE:GREGORIAN
BEGIN:VEVENT
UID:118d8c8c-faac-11ef-b12d-0a58a9feac02
DTSTAMP:20250306T165720Z
SUMMARY:LE PFO Basketball
URL;VALUE=URI:https://www.liverpool.k12.ny.us/schools/le/calendar/7617671/l
 e-pfo-basketball
DTSTART:20250409T190000Z
DTEND:20250409T200000Z
END:VEVENT
END:VCALENDAR
