BEGIN:VCALENDAR
VERSION:2.0
PRODID:SchoolNow
CALSCALE:GREGORIAN
BEGIN:VEVENT
UID:347319b6-1018-11f0-9737-0afff23ab077
DTSTAMP:20250402T231419Z
SUMMARY:LE PFO Meeting
URL;VALUE=URI:https://www.liverpool.k12.ny.us/schools/le/calendar/7835728/l
 e-pfo-meeting
DTSTART:20250408T220000Z
DTEND:20250408T230000Z
END:VEVENT
END:VCALENDAR
