BEGIN:VCALENDAR
VERSION:2.0
PRODID:SchoolNow
CALSCALE:GREGORIAN
BEGIN:VEVENT
UID:6cd8d4da-1018-11f0-b671-0a58a9feac02
DTSTAMP:20250402T231553Z
SUMMARY:LE PFO Flag Football
URL;VALUE=URI:https://www.liverpool.k12.ny.us/schools/le/calendar/7835730/l
 e-pfo-flag-football
DTSTART:20250430T190000Z
DTEND:20250430T200000Z
END:VEVENT
END:VCALENDAR
