BEGIN:VCALENDAR
VERSION:2.0
PRODID:SchoolNow
CALSCALE:GREGORIAN
BEGIN:VEVENT
UID:8723036a-1018-11f0-8815-0a58a9feac02
DTSTAMP:20250402T231638Z
SUMMARY:LE Run Club Group B
URL;VALUE=URI:https://www.liverpool.k12.ny.us/schools/le/calendar/7835731/l
 e-run-club-group-b
DTSTART:20250430T120000Z
DTEND:20250430T130000Z
END:VEVENT
END:VCALENDAR
