BEGIN:VCALENDAR
VERSION:2.0
PRODID:SchoolNow
CALSCALE:GREGORIAN
BEGIN:VEVENT
UID:a99fb5cc-2a9a-11f0-bab9-0e060aa23985
DTSTAMP:20250506T165340Z
SUMMARY:Superintendent's Conference Day (9-3-25)
URL;VALUE=URI:https://www.liverpool.k12.ny.us/schools/le/calendar/8077744/s
 uperintendents-conference-day-9-3-25
DTSTART:20250903T164200Z
DTEND:20250903T174200Z
END:VEVENT
END:VCALENDAR
