BEGIN:VCALENDAR
VERSION:2.0
PRODID:SchoolNow
CALSCALE:GREGORIAN
BEGIN:VEVENT
UID:dc6887c8-2c29-11f0-9fa1-02921ef69b7d
DTSTAMP:20250508T163115Z
SUMMARY:Holiday Recess - School Closed (12-25-25)
URL;VALUE=URI:https://www.liverpool.k12.ny.us/schools/le/calendar/8090707/h
 oliday-recess-school-closed-12-25-25
DTSTART:20251225T172900Z
DTEND:20251225T182900Z
END:VEVENT
END:VCALENDAR
