BEGIN:VCALENDAR
VERSION:2.0
PRODID:SchoolNow
CALSCALE:GREGORIAN
BEGIN:VEVENT
UID:eb8d548a-2ce8-11f0-9797-0a58a9feac02
DTSTAMP:20260421T204141Z
SUMMARY:Memorial Day Holiday - No School (5-22-26)
URL;VALUE=URI:https://www.liverpool.k12.ny.us/schools/le/calendar/8098397/p
 ossible-snow-day-give-back-5-22-26
DTSTART:20260522T151700Z
DTEND:20260522T161700Z
END:VEVENT
END:VCALENDAR
