BEGIN:VCALENDAR
VERSION:2.0
PRODID:SchoolNow
CALSCALE:GREGORIAN
BEGIN:VEVENT
UID:34397d9a-35a8-11f0-adb5-0232d58fe09b
DTSTAMP:20250520T182819Z
SUMMARY:Last Week of School - Early Dismissal (6-26-25)
URL;VALUE=URI:https://www.liverpool.k12.ny.us/schools/le/calendar/8169916/l
 ast-week-of-school-early-dismissal-6-26-25
DTSTART:20250626T182600Z
DTEND:20250626T192600Z
END:VEVENT
END:VCALENDAR
