BEGIN:VCALENDAR
VERSION:2.0
PRODID:SchoolNow
CALSCALE:GREGORIAN
BEGIN:VEVENT
UID:2d71731e-6ee7-11f0-a36b-0a58a9feac02
DTSTAMP:20250801T145242Z
SUMMARY:Elementary School Report Cards Online (7-3-26)
URL;VALUE=URI:https://www.liverpool.k12.ny.us/schools/le/calendar/8463400/e
 lementary-school-report-cards-online-7-3-26
DTSTART:20260703T145100Z
DTEND:20260703T155100Z
END:VEVENT
END:VCALENDAR
