BEGIN:VCALENDAR
VERSION:2.0
PRODID:SchoolNow
CALSCALE:GREGORIAN
BEGIN:VEVENT
UID:a7011130-ace5-11f0-8a2a-0affeecfddc9
DTSTAMP:20251019T121759Z
SUMMARY:LE Flag Football
URL;VALUE=URI:https://www.liverpool.k12.ny.us/schools/le/calendar/8734017/l
 e-flag-football
DTSTART:20251021T190000Z
DTEND:20251021T200000Z
END:VEVENT
END:VCALENDAR
