BEGIN:VCALENDAR
VERSION:2.0
PRODID:SchoolNow
CALSCALE:GREGORIAN
BEGIN:VEVENT
UID:be573526-ace5-11f0-9bd8-0202a3ed5e4b
DTSTAMP:20251019T121838Z
SUMMARY:LE Flag Football
URL;VALUE=URI:https://www.liverpool.k12.ny.us/schools/le/calendar/8734018/l
 e-flag-football
DTSTART:20251028T190000Z
DTEND:20251028T200000Z
END:VEVENT
END:VCALENDAR
