BEGIN:VCALENDAR
VERSION:2.0
PRODID:SchoolNow
CALSCALE:GREGORIAN
BEGIN:VEVENT
UID:d87bda7e-ace5-11f0-ad5a-0e95e64832fb
DTSTAMP:20251019T121922Z
SUMMARY:LE Shades of Orange
URL;VALUE=URI:https://www.liverpool.k12.ny.us/schools/le/calendar/8734019/l
 e-shades-of-orange
DTSTART:20251023T190000Z
DTEND:20251023T200000Z
END:VEVENT
END:VCALENDAR
