BEGIN:VCALENDAR
VERSION:2.0
PRODID:SchoolNow
CALSCALE:GREGORIAN
BEGIN:VEVENT
UID:f51738e0-ace5-11f0-9fbe-0a58a9feac02
DTSTAMP:20251019T122010Z
SUMMARY:LE Shades of Orange
URL;VALUE=URI:https://www.liverpool.k12.ny.us/schools/le/calendar/8734020/l
 e-shades-of-orange
DTSTART:20251030T190000Z
DTEND:20251030T200000Z
END:VEVENT
END:VCALENDAR
