BEGIN:VCALENDAR
VERSION:2.0
PRODID:SchoolNow
CALSCALE:GREGORIAN
BEGIN:VEVENT
UID:4a9860e6-ae08-11f0-9195-020b8302d979
DTSTAMP:20251020T230827Z
SUMMARY:LE Group A Run Club
URL;VALUE=URI:https://www.liverpool.k12.ny.us/schools/le/calendar/8737152/l
 e-run-club-group-a
DTSTART:20251118T130000Z
DTEND:20251118T133000Z
END:VEVENT
END:VCALENDAR
