BEGIN:VCALENDAR
VERSION:2.0
PRODID:SchoolNow
CALSCALE:GREGORIAN
BEGIN:VEVENT
UID:96a33c72-ae08-11f0-a725-0a58a9feac02
DTSTAMP:20251020T230918Z
SUMMARY:LE Group A Run Club
URL;VALUE=URI:https://www.liverpool.k12.ny.us/schools/le/calendar/8737163/l
 e-run-club-group-a
DTSTART:20260113T130000Z
DTEND:20260113T133000Z
END:VEVENT
END:VCALENDAR
