BEGIN:VCALENDAR
VERSION:2.0
PRODID:SchoolNow
CALSCALE:GREGORIAN
BEGIN:VEVENT
UID:019eaba0-ae0a-11f0-953f-02026c33b7a3
DTSTAMP:20251020T231044Z
SUMMARY:LE Group A Run Club
URL;VALUE=URI:https://www.liverpool.k12.ny.us/schools/le/calendar/8737168/l
 e-group-a-run-club
DTSTART:20260421T120000Z
DTEND:20260421T123000Z
END:VEVENT
END:VCALENDAR
