BEGIN:VCALENDAR
VERSION:2.0
PRODID:SchoolNow
CALSCALE:GREGORIAN
BEGIN:VEVENT
UID:2713e45e-ae0a-11f0-80f8-0202a3ed5e4b
DTSTAMP:20251020T231147Z
SUMMARY:LE Group A Run Club
URL;VALUE=URI:https://www.liverpool.k12.ny.us/schools/le/calendar/8737169/l
 e-group-a-run-club
DTSTART:20260512T120000Z
DTEND:20260512T123000Z
END:VEVENT
END:VCALENDAR
