BEGIN:VCALENDAR
VERSION:2.0
PRODID:SchoolNow
CALSCALE:GREGORIAN
BEGIN:VEVENT
UID:5378ae58-ae0a-11f0-9bec-0a58a9feac02
DTSTAMP:20251020T231302Z
SUMMARY:LE Group B Run Club
URL;VALUE=URI:https://www.liverpool.k12.ny.us/schools/le/calendar/8737170/l
 e-group-b-run-club
DTSTART:20251119T130000Z
DTEND:20251119T133000Z
END:VEVENT
END:VCALENDAR
