BEGIN:VCALENDAR
VERSION:2.0
PRODID:SchoolNow
CALSCALE:GREGORIAN
BEGIN:VEVENT
UID:754354d4-ae0a-11f0-986c-0a58a9feac02
DTSTAMP:20251020T231358Z
SUMMARY:LE Group B Run Club
URL;VALUE=URI:https://www.liverpool.k12.ny.us/schools/le/calendar/8737171/l
 e-group-b-run-club
DTSTART:20260114T130000Z
DTEND:20260114T133000Z
END:VEVENT
END:VCALENDAR
