BEGIN:VCALENDAR
VERSION:2.0
PRODID:SchoolNow
CALSCALE:GREGORIAN
BEGIN:VEVENT
UID:9558428e-ae0a-11f0-a865-022b9f8da2ab
DTSTAMP:20251020T232056Z
SUMMARY:LE Group A Run Club
URL;VALUE=URI:https://www.liverpool.k12.ny.us/schools/le/calendar/8737172/l
 e-group-b-run-club
DTSTART:20260310T120000Z
DTEND:20260310T123000Z
END:VEVENT
END:VCALENDAR
