BEGIN:VCALENDAR
VERSION:2.0
PRODID:SchoolNow
CALSCALE:GREGORIAN
BEGIN:VEVENT
UID:958f3848-ae0a-11f0-afab-0a58a9feac02
DTSTAMP:20251020T231453Z
SUMMARY:LE Group B Run Club
URL;VALUE=URI:https://www.liverpool.k12.ny.us/schools/le/calendar/8737173/l
 e-group-b-run-club
DTSTART:20260311T120000Z
DTEND:20260311T123000Z
END:VEVENT
END:VCALENDAR
