BEGIN:VCALENDAR
VERSION:2.0
PRODID:SchoolNow
CALSCALE:GREGORIAN
BEGIN:VEVENT
UID:b20e98d8-ae0a-11f0-98c5-0a58a9feac02
DTSTAMP:20251020T231540Z
SUMMARY:LE Group B Run Club
URL;VALUE=URI:https://www.liverpool.k12.ny.us/schools/le/calendar/8737174/l
 e-group-b-run-club
DTSTART:20251020T120000Z
DTEND:20251020T123000Z
END:VEVENT
END:VCALENDAR
