BEGIN:VCALENDAR
VERSION:2.0
PRODID:SchoolNow
CALSCALE:GREGORIAN
BEGIN:VEVENT
UID:f411a1a8-ae0a-11f0-bfc9-0a58a9feac02
DTSTAMP:20251020T231731Z
SUMMARY:LE Group B Run Club
URL;VALUE=URI:https://www.liverpool.k12.ny.us/schools/le/calendar/8737175/l
 e-group-b-run-club
DTSTART:20260513T120000Z
DTEND:20260513T123000Z
END:VEVENT
END:VCALENDAR
