BEGIN:VCALENDAR
VERSION:2.0
PRODID:SchoolNow
CALSCALE:GREGORIAN
BEGIN:VEVENT
UID:a2b9fa8e-ae0b-11f0-8513-0affcc472bef
DTSTAMP:20251020T232224Z
SUMMARY:LE Group B Run Club
URL;VALUE=URI:https://www.liverpool.k12.ny.us/schools/le/calendar/8737176/l
 e-group-b-run-club
DTSTART:20260422T120000Z
DTEND:20260422T123000Z
END:VEVENT
END:VCALENDAR
