BEGIN:VCALENDAR
VERSION:2.0
PRODID:SchoolNow
CALSCALE:GREGORIAN
BEGIN:VEVENT
UID:15def96e-3d34-11ef-8119-0a58a9feac02
DTSTAMP:20240708T141218Z
SUMMARY:Regents Exams (1-22-25)
URL;VALUE=URI:https://www.liverpool.k12.ny.us/schools/lhs/calendar/6231565/
 regents-exams-1-22-25
DTSTART:20250122T151100Z
DTEND:20250122T161100Z
END:VEVENT
END:VCALENDAR
