BEGIN:VCALENDAR
VERSION:2.0
PRODID:SchoolNow
CALSCALE:GREGORIAN
BEGIN:VEVENT
UID:8a09b9fa-3d34-11ef-bf60-0affea4aed0f
DTSTAMP:20240708T141533Z
SUMMARY:Regents Exams (1-23-25)
URL;VALUE=URI:https://www.liverpool.k12.ny.us/schools/lhs/calendar/6231567/
 regents-exams-1-22-25
DTSTART:20250123T151200Z
DTEND:20250123T161200Z
END:VEVENT
END:VCALENDAR
