BEGIN:VCALENDAR
VERSION:2.0
PRODID:SchoolNow
CALSCALE:GREGORIAN
BEGIN:VEVENT
UID:a427773c-3d34-11ef-b972-027656b1b733
DTSTAMP:20240708T141617Z
SUMMARY:Regents Exams (1-24-25)
URL;VALUE=URI:https://www.liverpool.k12.ny.us/schools/lhs/calendar/6231569/
 regents-exams-1-24-25
DTSTART:20250124T151500Z
DTEND:20250124T161500Z
END:VEVENT
END:VCALENDAR
