BEGIN:VCALENDAR
VERSION:2.0
PRODID:SchoolNow
CALSCALE:GREGORIAN
BEGIN:VEVENT
UID:d9d037f6-3d35-11ef-adc2-0affddf12909
DTSTAMP:20240708T142456Z
SUMMARY:Winter Recess - School Closed (2-17-25)
URL;VALUE=URI:https://www.liverpool.k12.ny.us/schools/lhs/calendar/6231604/
 winter-recess-school-closed-2-17-25
DTSTART:20250217T152200Z
DTEND:20250217T162200Z
END:VEVENT
END:VCALENDAR
