BEGIN:VCALENDAR
VERSION:2.0
PRODID:SchoolNow
CALSCALE:GREGORIAN
BEGIN:VEVENT
UID:c5b9d1d2-4b68-11ef-9212-0a58a9feac02
DTSTAMP:20240729T165804Z
SUMMARY:Home Football Game vs. CBA
URL;VALUE=URI:https://www.liverpool.k12.ny.us/schools/lhs/calendar/6313137/
 home-football-game-vs-cba
DTSTART:20241004T223000Z
DTEND:20241004T233000Z
END:VEVENT
END:VCALENDAR
