BEGIN:VCALENDAR
VERSION:2.0
PRODID:SchoolNow
CALSCALE:GREGORIAN
BEGIN:VEVENT
UID:de50c12e-4b68-11ef-98fb-0e1abcf95a0f
DTSTAMP:20240729T165757Z
SUMMARY:Marching Band Home Show - Location TBD
URL;VALUE=URI:https://www.liverpool.k12.ny.us/schools/lhs/calendar/6313138/
 marching-band-home-show-location-tbd
DTSTART:20241005T160400Z
DTEND:20241005T170400Z
END:VEVENT
END:VCALENDAR
