BEGIN:VCALENDAR
VERSION:2.0
PRODID:SchoolNow
CALSCALE:GREGORIAN
BEGIN:VEVENT
UID:0fdfd842-4b69-11ef-9881-0a58a9feac02
DTSTAMP:20240729T165744Z
SUMMARY:LHS Back to School Night/Open House
URL;VALUE=URI:https://www.liverpool.k12.ny.us/schools/lhs/calendar/6313142/
 lhs-back-to-school-night-open-house
DTSTART:20241010T213000Z
DTEND:20241010T233000Z
END:VEVENT
END:VCALENDAR
