BEGIN:VCALENDAR
VERSION:2.0
PRODID:SchoolNow
CALSCALE:GREGORIAN
BEGIN:VEVENT
UID:2e314c0e-4b69-11ef-a8c9-0a58a9feac02
DTSTAMP:20240729T165736Z
SUMMARY:ENL Graduation 2025
LOCATION:LHS
URL;VALUE=URI:https://www.liverpool.k12.ny.us/schools/lhs/calendar/6313144/
 enl-graduation-2025
DTSTART:20241023T220000Z
DTEND:20241024T000000Z
END:VEVENT
END:VCALENDAR
