BEGIN:VCALENDAR
VERSION:2.0
PRODID:SchoolNow
CALSCALE:GREGORIAN
BEGIN:VEVENT
UID:a9e95da0-4b69-11ef-9af1-0affed298875
DTSTAMP:20240729T165725Z
SUMMARY:Home Football Game vs. Utica Proctor
URL;VALUE=URI:https://www.liverpool.k12.ny.us/schools/lhs/calendar/6313148/
 home-football-game-vs-utica-proctor
DTSTART:20241026T170000Z
DTEND:20241026T180000Z
END:VEVENT
END:VCALENDAR
