BEGIN:VCALENDAR
VERSION:2.0
PRODID:SchoolNow
CALSCALE:GREGORIAN
BEGIN:VEVENT
UID:c4ff74d0-4b69-11ef-980d-02f3408c9f81
DTSTAMP:20240729T165713Z
SUMMARY:Field Band Championships @ JMA Wireless Dome
URL;VALUE=URI:https://www.liverpool.k12.ny.us/schools/lhs/calendar/6313149/
 field-band-championships-jma-wireless-dome
DTSTART:20241027T161100Z
DTEND:20241027T171100Z
END:VEVENT
END:VCALENDAR
