BEGIN:VCALENDAR
VERSION:2.0
PRODID:SchoolNow
CALSCALE:GREGORIAN
BEGIN:VEVENT
UID:e0154448-4b69-11ef-9a86-0e1abcf95a0f
DTSTAMP:20240729T165647Z
SUMMARY:Tri-M Induction Ceremony
LOCATION:LHS Auditorium Commons
URL;VALUE=URI:https://www.liverpool.k12.ny.us/schools/lhs/calendar/6313150/
 tri-m-induction-ceremony
DTSTART:20241028T230000Z
DTEND:20241029T010000Z
END:VEVENT
END:VCALENDAR
