BEGIN:VCALENDAR
VERSION:2.0
PRODID:SchoolNow
CALSCALE:GREGORIAN
BEGIN:VEVENT
UID:f8b377ea-4b69-11ef-b98e-02e92df62bcf
DTSTAMP:20240729T165616Z
SUMMARY:Marching Band Community Show
URL;VALUE=URI:https://www.liverpool.k12.ny.us/schools/lhs/calendar/6313151/
 marching-band-community-show
DTSTART:20241026T161300Z
DTEND:20241026T171300Z
END:VEVENT
END:VCALENDAR
