BEGIN:VCALENDAR
VERSION:2.0
PRODID:SchoolNow
CALSCALE:GREGORIAN
BEGIN:VEVENT
UID:1db34da4-4b6a-11ef-8d4f-0a58a9feac02
DTSTAMP:20240729T165600Z
SUMMARY:School Picture Retake Day (10/30/24)
LOCATION:Auditorium Commons
URL;VALUE=URI:https://www.liverpool.k12.ny.us/schools/lhs/calendar/6313159/
 school-picture-retake-day-10-30
DTSTART:20241030T140000Z
DTEND:20241030T170000Z
END:VEVENT
END:VCALENDAR
