BEGIN:VCALENDAR
VERSION:2.0
PRODID:SchoolNow
CALSCALE:GREGORIAN
BEGIN:VEVENT
UID:38313f10-4b6a-11ef-8e9a-0a58a9feac02
DTSTAMP:20240729T165540Z
SUMMARY:School Picture Retake Day (11/1/24)
LOCATION:Auditorium Commons
URL;VALUE=URI:https://www.liverpool.k12.ny.us/schools/lhs/calendar/6313160/
 school-picture-retake-day-11-1
DTSTART:20241101T140000Z
DTEND:20241101T170000Z
END:VEVENT
END:VCALENDAR
