BEGIN:VCALENDAR
VERSION:2.0
PRODID:SchoolNow
CALSCALE:GREGORIAN
BEGIN:VEVENT
UID:692b68ac-4b6a-11ef-8988-0e1abcf95a0f
DTSTAMP:20240729T165522Z
SUMMARY:Casting Hall Performance (11/7/24)
LOCATION:LHS Auditorium
URL;VALUE=URI:https://www.liverpool.k12.ny.us/schools/lhs/calendar/6313161/
 casting-hall-performance-11-7
DTSTART:20241108T000000Z
DTEND:20241108T020000Z
END:VEVENT
END:VCALENDAR
