BEGIN:VCALENDAR
VERSION:2.0
PRODID:SchoolNow
CALSCALE:GREGORIAN
BEGIN:VEVENT
UID:c8760780-4b6b-11ef-867e-0a58a9feac02
DTSTAMP:20240729T165444Z
SUMMARY:Casting Hall Performance (11/8/24)
LOCATION:LHS Auditorium
URL;VALUE=URI:https://www.liverpool.k12.ny.us/schools/lhs/calendar/6313165/
 casting-hall-performance-11-8
DTSTART:20241109T000000Z
DTEND:20241109T020000Z
END:VEVENT
END:VCALENDAR
