BEGIN:VCALENDAR
VERSION:2.0
PRODID:SchoolNow
CALSCALE:GREGORIAN
BEGIN:VEVENT
UID:e3cadc86-4b6b-11ef-a72c-0e11e9f495b1
DTSTAMP:20240729T165421Z
SUMMARY:Dollars For Scholars Bowl-a-thon
URL;VALUE=URI:https://www.liverpool.k12.ny.us/schools/lhs/calendar/6313166/
 dollars-for-scholars-bowl-a-thon
DTSTART:20241111T160000Z
DTEND:20241111T190000Z
END:VEVENT
END:VCALENDAR
