BEGIN:VCALENDAR
VERSION:2.0
PRODID:SchoolNow
CALSCALE:GREGORIAN
BEGIN:VEVENT
UID:f93230e2-4b6b-11ef-86e3-02e92df62bcf
DTSTAMP:20240729T165411Z
SUMMARY:Paige's Pajamarama
URL;VALUE=URI:https://www.liverpool.k12.ny.us/schools/lhs/calendar/6313167/
 paiges-pajamarama
DTSTART;VALUE=DATE:20241115
DTEND;VALUE=DATE:20241116
END:VEVENT
END:VCALENDAR
