BEGIN:VCALENDAR
VERSION:2.0
PRODID:SchoolNow
CALSCALE:GREGORIAN
BEGIN:VEVENT
UID:152873ba-4b6c-11ef-9d4e-0e3676316613
DTSTAMP:20240729T165353Z
SUMMARY:National Honor Society Induction Ceremony
LOCATION:LHS Auditorium
URL;VALUE=URI:https://www.liverpool.k12.ny.us/schools/lhs/calendar/6313168/
 national-honor-society-induction-ceremony
DTSTART:20241121T233000Z
DTEND:20241122T003000Z
END:VEVENT
END:VCALENDAR
